Workbook

Sheet Date generale
A1: Date generale cu privire la Parcurile Industriale
A2: Nr. | B2: Denumirea PI | C2: Hotărârea Guvernului | D2: Adresa juridică a Parcului Industrial | E2: Denumirea întreprinderii administratoare | F2: Genul de activitate | G2: Suprafata parcului industrial, ha | H2: Ponderea, % | I2: Schimbarea destinației terenului, mln lei
A3: 1 | B3: PI "Bioenergagro" | C3: nr. 1172 din 21.12.2010 | D3: Drochia, str. Independenţei, 58, ap. 11 | E3: SRL „Bioenergagro” - proprietate privată | F3: Producerea biogazului | G3: 13.49 | H3: =G3/G$13% -> 6.0651531 | I3: 13.404568
A4: 2 | B4: PI "TRACOM" | C4: nr. 440 din 16.06.2011 | D4: mun. Chișinău, str. Columna 170 | E4: SA „Tracom” - cu cota majoritară a statului | F4: Fabricarea mobiliei, utilajlui, IT, producerea ambalajului din hârtie și carton etc. | G4: 32.2607 | H4: =G4/G$13% -> 14.504528
A5: 3 | B5: PI "Cimişlia" | C5: nr. 797 din 28.10.2011 | D5: or. Cimișlia, str.Mihai Eminescu, 43 | E5: ÎM „Servicii Publice Cimișlia” - proprietate a or. Cimișlia | F5: Agroindustrial | G5: 40 | H5: =G5/G$13% -> 17.984145 | I5: 19.078406
A6: 4 | B6: PI "CAAN" | C6: nr. 451 din 28.06.2013 | D6: mun. Strășeni, str.Crăsescu 1 | E6: SA „CAAN” - proprietate privată | F6: Agroindustrial (prelucrarea, ambalarea produselor agricole) | G6: 37.3 | H6: =G6/G$13% -> 16.770216 | I6: 4.7
A7: 5 | B7: PI "Răut" | C7: nr. 526 din 11.07.2013 | D7: mun. Bălți, str. Decebal, 13 | E7: SA „Răut” - cu cota majoritară a statului | F7: Producerea aparatelor, piselor din metal și alte materiale etc. | G7: 9.51873 | H7: =G7/G$13% -> 4.2796556
A8: 6 | B8: PI "Edineţ" | C8: nr. 666 din 02.09.2013 | D8: mun. Edineț, str. Gh. Asachi, 15 | E8: SRL „Eco-Garant” - propretate privată | F8: Agroindustrial (producerea sucului, uscarea fructelor etc.), IT (proiectare construcții), Automotiv | G8: 17.8989 | H8: =G8/G$13% -> 8.0474105 | I8: 20.986945
A9: 7 | B9: PI "Triveneta Cavi Development" | C9: nr. 909 din 15.11.2013 | D9: mun. Chişinău, sec. Centru, str. Ştefan cel Mare şi Sfânt bd., 65, ap. 410 | E9: SRL „La Triveneta Cavi Divelopment” - proprietate privată | F9: Producera cablurlor pentru sectorul energetic | G9: 10.7598 | H9: =G9/G$13% -> 4.8376452 | I9: 8.0970188
A10: 8 | B10: PI "Comrat" | C10: nr. 742 din 10.09.2014 | D10: Uta Găgăuzia, Comrat, str. Pobedî, 79 | E10: ÎM „Gospodăria Locativ Comunală” - proprietate a or. Comrat | F10: Agroindustrial, Automotiv | G10: 50.3 | H10: =G10/G$13% -> 22.615063 | I10: 38.309043
A11: 9 | B11: PI "FAIP" | C11: nr. 918 din 07.11.2014 | D11: mun. Chişinău, sec. Buiucani, str. Paris, 36/1, ap. 17 | E11: SRL „Venador - Prim” - proprietate privată | F11: Producerea materialeleor de construcție | G11: 5 | H11: =G11/G$13% -> 2.2480182 | I11: 2.6829009
A12: 10 | B12: PI "CAHUL" | C12: nr. 186 din 26.02.2016 | D12: Cahul, str. Negruzzi C., 131, ap. 55 | E12: SRL „SUD-INVEST COMPANY” - proprietate privată | F12: Agroindustrial | G12: 5.89 | H12: =G12/G$13% -> 2.6481654
A13: Total | G13: =SUM(G3:G12) -> 222.41813 | H13: =G13/G$13% -> 100 | I13: =SUM(I3:I12) -> 107.25888

Sheet Volumul vanzarilor
A1: Cifra de afaceri, mii lei
A2: Nr. | B2: Denumirea PI | C2: 2013 | D2: 2014 | E2: 2015 | F2: 2016 | G2: 2017 | H2: 2018 | I2: 2019 | J2: 2020 | K2: 2021 | L2: Total
A3: ='Date generale'!A3 -> 1 | B3: ='Date generale'!B3 -> PI "Bioenergagro" | L3: =SUM(Таблица3[[#This Row],[2013]:[2021]]) -> 0
A4: ='Date generale'!A4 -> 2 | B4: ='Date generale'!B4 -> PI "TRACOM" | C4: 123200 | D4: 404393 | E4: 754004 | F4: 1196146 | G4: 1410770 | H4: 1972926.9 | I4: 2237662 | J4: 2791528 | K4: 3437366.8 | L4: =SUM(Таблица3[[#This Row],[2013]:[2021]]) -> 14327997
A5: ='Date generale'!A5 -> 3 | B5: ='Date generale'!B5 -> PI "Cimişlia" | H5: 0 | I5: 0 | J5: 5539.3 | K5: 0 | L5: =SUM(Таблица3[[#This Row],[2013]:[2021]]) -> 5539.3
A6: ='Date generale'!A6 -> 4 | B6: ='Date generale'!B6 -> PI "CAAN" | E6: 437.6 | F6: 580.6 | G6: 521.8 | H6: 168.6 | I6: 11.7 | J6: 6519.2 | K6: 8592.8 | L6: =SUM(Таблица3[[#This Row],[2013]:[2021]]) -> 16832.3
A7: ='Date generale'!A7 -> 5 | B7: ='Date generale'!B7 -> PI "Răut" | C7: 22500 | D7: 47921 | E7: 87448 | F7: 98782 | G7: 57488.9 | H7: 69497.3 | I7: 131495 | J7: 100669.26 | K7: 155562.88 | L7: =SUM(Таблица3[[#This Row],[2013]:[2021]]) -> 771364.34
A8: ='Date generale'!A8 -> 6 | B8: ='Date generale'!B8 -> PI "Edineţ" | C8: 10 | D8: 184 | E8: 102541 | F8: 129951 | G8: 323519.9 | H8: 192178 | I8: 373050.3 | J8: 400192.5 | K8: 380683.67 | L8: =SUM(Таблица3[[#This Row],[2013]:[2021]]) -> 1902310.4
A9: ='Date generale'!A9 -> 7 | B9: ='Date generale'!B9 -> PI "Triveneta Cavi Development" | F9: 140685 | G9: 447148 | H9: 648915.4 | I9: 662547.5 | J9: 153025.6 | K9: 141781.2 | L9: =SUM(Таблица3[[#This Row],[2013]:[2021]]) -> 2194102.7
A10: ='Date generale'!A10 -> 8 | B10: ='Date generale'!B10 -> PI "Comrat" | H10: 447.9 | I10: 124522.5 | J10: 99245.8 | K10: 245802.4 | L10: =SUM(Таблица3[[#This Row],[2013]:[2021]]) -> 470018.6
A11: ='Date generale'!A11 -> 9 | B11: ='Date generale'!B11 -> PI "FAIP" | H11: 10809.4 | I11: 0 | J11: 7351.8 | K11: 8218.4 | L11: =SUM(Таблица3[[#This Row],[2013]:[2021]]) -> 26379.6
A12: ='Date generale'!A12 -> 10 | B12: ='Date generale'!B12 -> PI "CAHUL" | L12: =SUM(Таблица3[[#This Row],[2013]:[2021]]) -> 0
B13: TOTAL | C13: =SUM(C3:C12) -> 145710 | D13: =SUM(D3:D12) -> 452498 | E13: =SUM(E3:E12) -> 944430.6 | F13: =SUM(F3:F12) -> 1566144.6 | G13: =SUM(G3:G12) -> 2239448.6 | H13: =SUM(H3:H12) -> 2894943.5 | I13: =SUM(I3:I12) -> 3529289 | J13: =SUM(J3:J12) -> 3564071.5 | K13: =SUM(K3:K12) -> 4378008.2 | L13: =SUM(Таблица3[[#This Row],[2013]:[2021]]) -> 19714544
C36: =AVERAGE(L3:L12) -> 1971454.4 | D36: =C36 -> 1971454.4 | E36: =D36 -> 1971454.4 | F36: =E36 -> 1971454.4 | G36: =F36 -> 1971454.4 | H36: =G36 -> 1971454.4 | I36: =H36 -> 1971454.4 | J36: =I36 -> 1971454.4 | K36: =J36 -> 1971454.4
C37: =C13 -> 145710 | D37: =D13+C13 -> 598208 | E37: =D37+E13 -> 1542638.6 | F37: =E37+F13 -> 3108783.2 | G37: =F37+G13 -> 5348231.8 | H37: =G37+H13 -> 8243175.3 | I37: =H37+I13 -> 11772464 | J37: =I37+J13 -> 15336536 | K37: =J37+K13 -> 19714544

Sheet Locuri de munca
A1: Numărul angajaților, persoane
A2: Nr. | B2: Denumierea PI | C2: 2013 | D2: 2014 | E2: 2015 | F2: 2016 | G2: 2017 | H2: 2008 | I2: 2019 | J2: 2020 | K2: 2021
A3: ='Date generale'!A3 -> 1 | B3: ='Date generale'!B3 -> PI "Bioenergagro" | E3: 5 | F3: 5 | G3: 5 | H3: 5 | I3: 5 | J3: 5 | K3: 5
A4: ='Date generale'!A4 -> 2 | B4: ='Date generale'!B4 -> PI "TRACOM" | C4: 35 | D4: 783 | E4: 1066 | F4: 1377 | G4: 1597 | H4: 1932 | I4: 1999 | J4: 2133 | K4: 1965.5
A5: ='Date generale'!A5 -> 3 | B5: ='Date generale'!B5 -> PI "Cimişlia" | D5: 2 | E5: 2 | F5: 2 | G5: 2 | H5: 2 | I5: 2 | J5: 22 | K5: 2
A6: ='Date generale'!A6 -> 4 | B6: ='Date generale'!B6 -> PI "CAAN" | D6: 35 | E6: 32 | F6: 44 | G6: 38 | H6: 37 | I6: 30 | J6: 37 | K6: 19
A7: ='Date generale'!A7 -> 5 | B7: ='Date generale'!B7 -> PI "Răut" | C7: 248 | D7: 403 | E7: 658 | F7: 936 | G7: 910 | H7: 1055 | I7: 905 | J7: 817 | K7: 889
A8: ='Date generale'!A8 -> 6 | B8: ='Date generale'!B8 -> PI "Edineţ" | C8: 2 | D8: 5 | E8: 138 | F8: 168 | G8: 133 | H8: 150 | I8: 185 | J8: 194 | K8: 202
A9: ='Date generale'!A9 -> 7 | B9: ='Date generale'!B9 -> PI "Triveneta Cavi Development" | D9: 1 | E9: 14 | F9: 59 | G9: 168 | H9: 162 | I9: 134 | J9: 23 | K9: 8
A10: ='Date generale'!A10 -> 8 | B10: ='Date generale'!B10 -> PI "Comrat" | E10: 1 | F10: 1 | G10: 1 | H10: 42 | I10: 996 | J10: 517 | K10: 969
A11: ='Date generale'!A11 -> 9 | B11: ='Date generale'!B11 -> PI "FAIP" | E11: 1 | F11: 12 | G11: 12 | H11: 7 | I11: 12 | J11: 12 | K11: 5
A12: ='Date generale'!A12 -> 10 | B12: ='Date generale'!B12 -> PI "CAHUL" | F12: 1 | G12: 1 | H12: 0 | I12: 0 | J12: 0 | K12: 2
B13: TOTAL | C13: =SUM(C3:C12) -> 285 | D13: =SUM(D3:D12) -> 1229 | E13: =SUM(E3:E12) -> 1917 | F13: =SUM(F3:F12) -> 2605 | G13: =SUM(G3:G12) -> 2867 | H13: =SUM(H3:H12) -> 3392 | I13: =SUM(I3:I12) -> 4268 | J13: =SUM(J3:J12) -> 3760 | K13: =SUM(K3:K12) -> 4066.5

Sheet Intrari de investitii
A2: Volumul investiților, mii lei
A3: Nr. | B3: Denumierea PI | C3: 2013 | D3: 2014 | E3: 2015 | F3: 2016 | G3: 2017 | H3: 2018 | I3: 2019 | J3: 2020 | K3: 2021 | L3: Total
A4: ='Locuri de munca'!A3 -> 1 | B4: ='Locuri de munca'!B3 -> PI "Bioenergagro" | C4: 23500 | D4: 20700 | L4: =SUM(C4:K4) -> 44200
A5: ='Date generale'!A4 -> 2 | B5: ='Date generale'!B4 -> PI "TRACOM" | C5: 5202.8 | D5: 106926 | E5: 81759.6 | F5: 116701 | G5: 76736 | H5: 238162 | I5: 329133 | J5: 192768.9 | K5: 362163.7 | L5: =SUM(C5:K5) -> 1509553
A6: ='Date generale'!A5 -> 3 | B6: ='Date generale'!B5 -> PI "Cimişlia" | J6: 617.26 | L6: =SUM(C6:K6) -> 617.26
A7: ='Date generale'!A6 -> 4 | B7: ='Date generale'!B6 -> PI "CAAN" | C7: 1624 | G7: 827.26 | I7: 46.9 | J7: 3632.4 | K7: 18198.2 | L7: =SUM(C7:K7) -> 24328.76
A8: ='Date generale'!A7 -> 5 | B8: ='Date generale'!B7 -> PI "Răut" | C8: 143 | D8: 5892 | E8: 7764 | F8: 5949 | G8: 21792.6 | H8: 14168.5 | I8: 13784.2 | J8: 915.4 | K8: 10496.1 | L8: =SUM(C8:K8) -> 80904.8
A9: ='Date generale'!A8 -> 6 | B9: ='Date generale'!B8 -> PI "Edineţ" | D9: 7570 | E9: 200710 | F9: 20716 | G9: 194372.6 | H9: 117278.7 | I9: 25428 | J9: 60988.4 | K9: 28400.81 | L9: =SUM(C9:K9) -> 655464.51
A10: ='Date generale'!A9 -> 7 | B10: ='Date generale'!B9 -> PI "Triveneta Cavi Development" | E10: 290901 | F10: 25900 | G10: 406336.8 | H10: 48143.34 | I10: 25728.6 | L10: =SUM(C10:K10) -> 797009.74
A11: ='Date generale'!A10 -> 8 | B11: ='Date generale'!B10 -> PI "Comrat" | H11: 14557 | I11: 100660 | L11: =SUM(C11:K11) -> 115217
A12: ='Date generale'!A11 -> 9 | B12: ='Date generale'!B11 -> PI "FAIP" | E12: 1301.2 | F12: 1789.5 | G12: 3020 | H12: 4102.4 | I12: 0 | J12: 6217.4 | K12: 720 | L12: =SUM(C12:K12) -> 17150.5
A13: ='Date generale'!A12 -> 10 | B13: ='Date generale'!B12 -> PI "CAHUL" | H13: 0 | I13: 0 | J13: 525 | K13: 8041.1 | L13: =SUM(C13:K13) -> 8566.1
B14: TOTAL | C14: =SUM(C4:C13) -> 30469.8 | D14: =SUM(D4:D13) -> 141088 | E14: =SUM(E4:E13) -> 582435.8 | F14: =SUM(F4:F13) -> 171055.5 | G14: =SUM(G4:G13) -> 703085.26 | H14: =SUM(H4:H13) -> 436411.94 | I14: =SUM(I4:I13) -> 494780.7 | J14: =SUM(J4:J13) -> 265664.76 | K14: =SUM(K4:K13) -> 428019.91 | L14: =SUM(C14:K14) -> 3253011.7
C39: =C14 -> 30469.8 | D39: =C39+D14 -> 171557.8 | E39: =D39+E14 -> 753993.6 | F39: =E39+F14 -> 925049.1 | G39: =F39+G14 -> 1628134.4 | H39: =G39+H14 -> 2064546.3 | I39: =H39+I14 -> 2559327 | J39: =I39+J14 -> 2824991.8 | K39: =J39+K14 -> 3253011.7

Sheet Impozite si taxe
A1: Impozite și taxe achitate, mii lei
A2: Nr. | B2: Denumierea PI | C2: 2013 | D2: 2014 | E2: 2015 | F2: 2016 | G2: 2017 | H2: 2018 | I2: 2019 | J2: 2020 | K2: 2021 | L2: Total
A3: 1 | B3: PI ”Bionergagro” | H3: 0 | I3: 0 | J3: 0 | K3: 0 | L3: =SUM(C3:K3) -> 0
A4: ='Date generale'!A4 -> 2 | B4: ='Date generale'!B4 -> PI "TRACOM" | C4: 23.4 | D4: 82684 | E4: 161294 | F4: 206835 | G4: 288964 | H4: 434997.7 | I4: 480905 | J4: 524631 | K4: 681854.8 | L4: =SUM(C4:K4) -> 2862188.9
A5: ='Date generale'!A5 -> 3 | B5: ='Date generale'!B5 -> PI "Cimişlia" | H5: 0 | I5: 0 | J5: 185.9 | K5: 0 | L5: =SUM(C5:K5) -> 185.9
A6: ='Date generale'!A6 -> 4 | B6: ='Date generale'!B6 -> PI "CAAN" | D6: 253.1 | E6: 531.4 | F6: 346.4 | G6: 239.66 | H6: 239.53 | I6: 67.4 | J6: 208.1 | K6: 265.9 | L6: =SUM(C6:K6) -> 2151.49
A7: ='Date generale'!A7 -> 5 | B7: ='Date generale'!B7 -> PI "Răut" | C7: 2.7 | D7: 13354 | E7: 13144 | F7: 12889 | G7: 15139.6 | H7: 23093.9 | I7: 23976.9 | J7: 18704.4 | K7: 25108.96 | L7: =SUM(C7:K7) -> 145413.46
A8: ='Date generale'!A8 -> 6 | B8: ='Date generale'!B8 -> PI "Edineţ" | D8: 75.2 | E8: 4902 | F8: 3808 | G8: 2006.5 | H8: 32456.07 | I8: 14411.7 | J8: 14770.6 | K8: 9908.14 | L8: =SUM(C8:K8) -> 82338.21
A9: ='Date generale'!A9 -> 7 | B9: ='Date generale'!B9 -> PI "Triveneta Cavi Development" | D9: 57.6 | E9: 542.7 | F9: 949.6 | G9: 1683.14 | H9: 1415.9 | I9: 1254.6 | J9: 524.1 | K9: 554.7 | L9: =SUM(C9:K9) -> 6982.34
A10: ='Date generale'!A10 -> 8 | B10: ='Date generale'!B10 -> PI "Comrat" | H10: 0 | I10: 7922.7 | J10: 3042.6 | K10: 7995.1 | L10: =SUM(C10:K10) -> 18960.4
A11: ='Date generale'!A11 -> 9 | B11: ='Date generale'!B11 -> PI "FAIP" | F11: 1186 | G11: 1833.9 | H11: 243.9 | I11: 1833.9 | J11: 2217.6 | K11: 1950.4 | L11: =SUM(C11:K11) -> 9265.7
A12: ='Date generale'!A12 -> 10 | B12: ='Date generale'!B12 -> PI "CAHUL" | F12: 10.2 | G12: 10.2 | H12: 34.5 | I12: 0.65 | J12: 29 | K12: 34.5 | L12: =SUM(C12:K12) -> 119.05
B13: TOTAL | C13: =SUM(C3:C12) -> 26.1 | D13: =SUM(D3:D12) -> 96423.9 | E13: =SUM(E3:E12) -> 180414.1 | F13: =SUM(F3:F12) -> 226024.2 | G13: =SUM(G3:G12) -> 309877 | H13: =SUM(H3:H12) -> 492481.5 | I13: =SUM(I3:I12) -> 530372.85 | J13: =SUM(J3:J12) -> 564313.3 | K13: =SUM(K3:K12) -> 727672.5 | L13: =SUM(C13:K13) -> 3127605.5
C39: =C13 -> 26.1 | D39: =C39+D13 -> 96450 | E39: =D39+E13 -> 276864.1 | F39: =E39+F13 -> 502888.3 | G39: =F39+G13 -> 812765.3 | H39: =G39+H13 -> 1305246.8 | I39: =H39+I13 -> 1835619.7 | J39: =I39+J13 -> 2399933 | K39: =J39+K13 -> 3127605.5

Sheet Rezidenti
A1: Numărul rezindeților
A2: Nr. | B2: Denumirea PI | C2: 2013 | D2: 2014 | E2: 2015 | F2: 2016 | G2: 2017 | H2: 2018 | I2: 2019 | J2: 2020 | K2: 2021
A3: 1 | B3: PI ”Bionergagro”
A4: ='Date generale'!A4 -> 2 | B4: ='Date generale'!B4 -> PI "TRACOM" | C4: 30 | D4: 32 | E4: 41 | F4: 44 | G4: 52 | H4: 64 | I4: 64 | J4: 64 | K4: 70
A5: ='Date generale'!A5 -> 3 | B5: ='Date generale'!B5 -> PI "Cimişlia" | C5: 1 | D5: 2 | E5: 2 | F5: 2 | G5: 2 | H5: 1 | I5: 1 | J5: 1 | K5: 1
A6: ='Date generale'!A6 -> 4 | B6: ='Date generale'!B6 -> PI "CAAN" | E6: 1 | F6: 1 | G6: 1 | H6: 1 | I6: 1 | J6: 1 | K6: 1
A7: ='Date generale'!A7 -> 5 | B7: ='Date generale'!B7 -> PI "Răut" | C7: 2 | D7: 7 | E7: 7 | F7: 7 | G7: 6 | H7: 9 | I7: 9 | J7: 9 | K7: 10
A8: ='Date generale'!A8 -> 6 | B8: ='Date generale'!B8 -> PI "Edineţ" | C8: 1 | D8: 2 | E8: 4 | F8: 3 | G8: 4 | H8: 5 | I8: 7 | J8: 7 | K8: 7
A9: ='Date generale'!A9 -> 7 | B9: ='Date generale'!B9 -> PI "Triveneta Cavi Development"
A10: ='Date generale'!A10 -> 8 | B10: ='Date generale'!B10 -> PI "Comrat" | H10: 1 | I10: 3 | J10: 3 | K10: 3
A11: ='Date generale'!A11 -> 9 | B11: ='Date generale'!B11 -> PI "FAIP" | G11: 1 | H11: 1 | I11: 1 | J11: 1 | K11: 2
A12: ='Date generale'!A12 -> 10 | B12: ='Date generale'!B12 -> PI "CAHUL"
B13: TOTAL | C13: =SUM(C3:C12) -> 34 | D13: =SUM(D3:D12) -> 43 | E13: =SUM(E3:E12) -> 55 | F13: =SUM(F3:F12) -> 57 | G13: =SUM(G3:G12) -> 66 | H13: =SUM(H3:H12) -> 82 | I13: =SUM(I3:I12) -> 86 | J13: =SUM(J3:J12) -> 86 | K13: =SUM(K3:K12) -> 94
